{
 "currentVersion": 10.71,
 "serviceDescription": "",
 "mapName": "Layers",
 "description": "",
 "copyrightText": "",
 "supportsDynamicLayers": true,
 "layers": [
  {
   "id": 0,
   "name": "Marine Protected Areas",
   "parentLayerId": -1,
   "defaultVisibility": true,
   "subLayerIds": null,
   "minScale": 0,
   "maxScale": 0,
   "type": "Feature Layer",
   "geometryType": "esriGeometryPolygon"
  }
 ],
 "tables": [],
 "spatialReference": {
  "wkid": 2193,
  "latestWkid": 2193
 },
 "singleFusedMapCache": true,
 "tileInfo": {
  "rows": 512,
  "cols": 512,
  "dpi": 96,
  "format": "MIXED",
  "compressionQuality": 85,
  "origin": {
   "x": -4020900,
   "y": 19998100
  },
  "spatialReference": {
   "wkid": 2193,
   "latestWkid": 2193
  },
  "lods": [
   {
    "level": 0,
    "resolution": 39135.75848199984,
    "scale": 1.47914381897888E8
   },
   {
    "level": 1,
    "resolution": 19567.87924099992,
    "scale": 7.3957190948944E7
   },
   {
    "level": 2,
    "resolution": 9783.93962049996,
    "scale": 3.6978595474472E7
   },
   {
    "level": 3,
    "resolution": 4891.96981024998,
    "scale": 1.8489297737236E7
   },
   {
    "level": 4,
    "resolution": 2445.98490512499,
    "scale": 9244648.868618
   },
   {
    "level": 5,
    "resolution": 1222.992452562495,
    "scale": 4622324.434309
   },
   {
    "level": 6,
    "resolution": 611.4962262813797,
    "scale": 2311162.217155
   },
   {
    "level": 7,
    "resolution": 305.74811314055756,
    "scale": 1155581.108577
   },
   {
    "level": 8,
    "resolution": 152.87405657041106,
    "scale": 577790.554289
   },
   {
    "level": 9,
    "resolution": 76.43702828507324,
    "scale": 288895.277144
   },
   {
    "level": 10,
    "resolution": 38.21851414253662,
    "scale": 144447.638572
   },
   {
    "level": 11,
    "resolution": 19.10925707126831,
    "scale": 72223.819286
   },
   {
    "level": 12,
    "resolution": 9.554628535634155,
    "scale": 36111.909643
   },
   {
    "level": 13,
    "resolution": 4.77731426794937,
    "scale": 18055.954822
   },
   {
    "level": 14,
    "resolution": 2.388657133974685,
    "scale": 9027.977411
   },
   {
    "level": 15,
    "resolution": 1.1943285668550503,
    "scale": 4513.988705
   },
   {
    "level": 16,
    "resolution": 0.5971642835598172,
    "scale": 2256.994353
   },
   {
    "level": 17,
    "resolution": 0.29858214164761665,
    "scale": 1128.497176
   },
   {
    "level": 18,
    "resolution": 0.14929107082380833,
    "scale": 564.248588
   },
   {
    "level": 19,
    "resolution": 0.07464553541190416,
    "scale": 282.124294
   }
  ]
 },
 "initialExtent": {
  "xmin": 21248.04741248139,
  "ymin": 5202759.952572217,
  "xmax": 3565480.174938591,
  "ymax": 6435536.344755212,
  "spatialReference": {
   "wkid": 2193,
   "latestWkid": 2193
  }
 },
 "fullExtent": {
  "xmin": 1067058.542480469,
  "ymin": 4140537.9138793945,
  "xmax": 2519669.679870606,
  "ymax": 6754178.972290039,
  "spatialReference": {
   "wkid": 2193,
   "latestWkid": 2193
  }
 },
 "minScale": 4622324.434309,
 "maxScale": 9027.977411,
 "units": "esriMeters",
 "supportedImageFormatTypes": "PNG32,PNG24,PNG,JPG,DIB,TIFF,EMF,PS,PDF,GIF,SVG,SVGZ,BMP",
 "documentInfo": {
  "Title": "",
  "Author": "",
  "Comments": "",
  "Subject": "",
  "Category": "",
  "AntialiasingMode": "None",
  "TextAntialiasingMode": "Force",
  "Keywords": ""
 },
 "capabilities": "Map,Query,Data",
 "supportedQueryFormats": "JSON, geoJSON",
 "exportTilesAllowed": false,
 "supportsDatumTransformation": true,
 "maxRecordCount": 1000,
 "maxImageHeight": 4096,
 "maxImageWidth": 4096,
 "supportedExtensions": ""
}
